BEGIN:VCALENDAR
VERSION:2.0
PRODID:-//FADI - ECPv6.2.3.1//NONSGML v1.0//EN
CALSCALE:GREGORIAN
METHOD:PUBLISH
X-ORIGINAL-URL:https://fadi.es
X-WR-CALDESC:Eventos para FADI
REFRESH-INTERVAL;VALUE=DURATION:PT1H
X-Robots-Tag:noindex
X-PUBLISHED-TTL:PT1H
BEGIN:VTIMEZONE
TZID:UTC
BEGIN:STANDARD
TZOFFSETFROM:+0000
TZOFFSETTO:+0000
TZNAME:UTC
DTSTART:20250101T000000
END:STANDARD
END:VTIMEZONE
BEGIN:VEVENT
DTSTART;TZID=UTC:20250301T080000
DTEND;TZID=UTC:20250302T170000
DTSTAMP:20260423T220538
CREATED:20241127T113410Z
LAST-MODIFIED:20241127T113412Z
UID:5678629-1740816000-1740934800@fadi.es
SUMMARY:2ª Fase copa Andalucía absoluta y master (DPD): Campeonato de Andalucía absoluto
DESCRIPTION:
URL:https://fadi.es/eventos/2a-fase-copa-andalucia-absoluta-y-master-dpd-campeonato-de-andalucia-absoluto/
END:VEVENT
END:VCALENDAR