BEGIN:VCALENDAR
VERSION:2.0
PRODID:-//FADI - ECPv6.2.3.1//NONSGML v1.0//EN
CALSCALE:GREGORIAN
METHOD:PUBLISH
X-WR-CALNAME:FADI
X-ORIGINAL-URL:https://fadi.es
X-WR-CALDESC:Eventos para FADI
REFRESH-INTERVAL;VALUE=DURATION:PT1H
X-Robots-Tag:noindex
X-PUBLISHED-TTL:PT1H
BEGIN:VTIMEZONE
TZID:UTC
BEGIN:STANDARD
TZOFFSETFROM:+0000
TZOFFSETTO:+0000
TZNAME:UTC
DTSTART:20240101T000000
END:STANDARD
END:VTIMEZONE
BEGIN:VEVENT
DTSTART;TZID=UTC:20240218T080000
DTEND;TZID=UTC:20240218T170000
DTSTAMP:20260424T235104
CREATED:20230623T095831Z
LAST-MODIFIED:20240221T060508Z
UID:5677311-1708243200-1708275600@fadi.es
SUMMARY:2ª Fase Copa de Andalucía E. Alpino U14-U16 - XVI Trofeo Caja Rural de Granada
DESCRIPTION:FECHA PENDIENTE DE CONFIRMACIÓN – PLAZO DE INSCRIPCION CERRADO \n\n\n\n\n\n\nCATEGORIAS: \n\n\n\n\nU14-U16\n\n\n\n\nÁMBITO: \n\n\n\n\nEstatal\n\n\n\n\nLICENCIA NECESARIA: \n\n\n\n\nLicencia RFEDI Temporada 2023-24\n\n\n\n\n\n\n\n\n\n\n\n\n\nResultados \n\n\n\n20240218 XVI Trof. Caja Rural SL_Resultados oficiales
URL:https://fadi.es/eventos/2a-fase-copa-de-andalucia-e-alpino-u14-u16-xvi-trofeo-caja-rural-de-granada/
LOCATION:Sierra Nevada\, Monachil\, 18196\, España
CATEGORIES:Esquí Alpino 2023-24,NIEVE 2023-24,Resultados Esqui Alpino 2023-24,RESULTADOS NIEVE 2023-24
END:VEVENT
END:VCALENDAR