BEGIN:VCALENDAR
VERSION:2.0
PRODID:-//FADI - ECPv6.2.3.1//NONSGML v1.0//EN
CALSCALE:GREGORIAN
METHOD:PUBLISH
X-ORIGINAL-URL:https://fadi.es
X-WR-CALDESC:Eventos para FADI
REFRESH-INTERVAL;VALUE=DURATION:PT1H
X-Robots-Tag:noindex
X-PUBLISHED-TTL:PT1H
BEGIN:VTIMEZONE
TZID:UTC
BEGIN:STANDARD
TZOFFSETFROM:+0000
TZOFFSETTO:+0000
TZNAME:UTC
DTSTART:20240101T000000
END:STANDARD
END:VTIMEZONE
BEGIN:VEVENT
DTSTART;TZID=UTC:20240329T080000
DTEND;TZID=UTC:20240331T170000
DTSTAMP:20260424T155433
CREATED:20230623T102933Z
LAST-MODIFIED:20230912T082359Z
UID:5677334-1711699200-1711904400@fadi.es
SUMMARY:Fase Final Copa de Andalucía E. Alpino U14-U16 - Cto de Andalucía E. Alpino U14-U16
DESCRIPTION:FECHA PENDIENTE DE CONFIRMACIÓN – PLAZO DE INSCRIPCION CERRADO \n\n\n\n\n\n\nCATEGORIAS: \n\n\n\n\nU14-U16\n\n\n\n\nÁMBITO: \n\n\n\n\nEstatal\n\n\n\n\nLICENCIA NECESARIA: \n\n\n\n\nLicencia RFEDI Temporada 2023-24
URL:https://fadi.es/eventos/fase-final-copa-de-andalucia-e-alpino-u14-u16-cto-de-andalucia-e-alpino-u14-u16/
LOCATION:Sierra Nevada\, Monachil\, 18196\, España
CATEGORIES:Esquí Alpino 2023-24,NIEVE 2023-24,Resultados Esqui Alpino 2023-24,RESULTADOS NIEVE 2023-24
END:VEVENT
END:VCALENDAR