BEGIN:VCALENDAR
VERSION:2.0
PRODID:-//FADI - ECPv6.2.3.1//NONSGML v1.0//EN
CALSCALE:GREGORIAN
METHOD:PUBLISH
X-ORIGINAL-URL:https://fadi.es
X-WR-CALDESC:Eventos para FADI
REFRESH-INTERVAL;VALUE=DURATION:PT1H
X-Robots-Tag:noindex
X-PUBLISHED-TTL:PT1H
BEGIN:VTIMEZONE
TZID:UTC
BEGIN:STANDARD
TZOFFSETFROM:+0000
TZOFFSETTO:+0000
TZNAME:UTC
DTSTART:20240101T000000
END:STANDARD
END:VTIMEZONE
BEGIN:VEVENT
DTSTART;TZID=UTC:20240302T080000
DTEND;TZID=UTC:20240303T170000
DTSTAMP:20260426T001057
CREATED:20230623T102623Z
LAST-MODIFIED:20230623T111106Z
UID:5677330-1709366400-1709485200@fadi.es
SUMMARY:Copa del Mundo SBX Sierra Nevada 2024
DESCRIPTION:PLAZO DE INSCRIPCION CERRADO
URL:https://fadi.es/eventos/copa-del-mundo-sbx-sierra-nevada-2024/
LOCATION:Sierra Nevada\, Monachil\, 18196\, España
CATEGORIES:NIEVE 2023-24,RESULTADOS NIEVE 2023-24,Resultados Snowboard 2023-24,Snowboard 2023-24
END:VEVENT
BEGIN:VEVENT
DTSTART;TZID=UTC:20240323T080000
DTEND;TZID=UTC:20240323T170000
DTSTAMP:20260426T001057
CREATED:20230623T104338Z
LAST-MODIFIED:20230912T083025Z
UID:5677343-1711180800-1711213200@fadi.es
SUMMARY:Campeonato de España Snowboard Slopestyle
DESCRIPTION:PLAZO DE INSCRIPCION CERRADO \n\n\n\n\n\nCATEGORIAS: \n\n\n\n\nTodas las categorías\n\n\n\n\nÁMBITO: \n\n\n\n\nEstatal\n\n\n\n\nLICENCIA NECESARIA: \n\n\n\n\nLicencia RFEDI Temporada 2023-24
URL:https://fadi.es/eventos/campeonato-de-espana-snowboard-slopestyle/
LOCATION:Sierra Nevada\, Monachil\, 18196\, España
CATEGORIES:NIEVE 2023-24,RESULTADOS NIEVE 2023-24,Resultados Snowboard 2023-24,Snowboard 2023-24
END:VEVENT
BEGIN:VEVENT
DTSTART;TZID=UTC:20240326T080000
DTEND;TZID=UTC:20240326T170000
DTSTAMP:20260426T001057
CREATED:20230623T105412Z
LAST-MODIFIED:20230912T083037Z
UID:5677348-1711440000-1711472400@fadi.es
SUMMARY:2ª Fase Copa Andalucía Freestyle y Snowboard - Campeonato de Andalucía Freestyle y Snowboard Slopestyle
DESCRIPTION:PLAZO DE INSCRIPCION CERRADO \n\n\n\n\n\n\nCATEGORIAS: \n\n\n\n\nTodas las categorías\n\n\n\n\nÁMBITO: \n\n\n\n\nAutonómico\n\n\n\n\nLICENCIA NECESARIA: \n\n\n\n\nLicencia de Federado Temporada 2023-24
URL:https://fadi.es/eventos/2a-fase-copa-andalucia-freestyle-y-snowboard-campeonato-de-andalucia-freestyle-y-snowboard-slopestyle/
LOCATION:Sierra Nevada\, Monachil\, 18196\, España
CATEGORIES:Freestyle-Freeski 2023-24,NIEVE 2023-24,Resultados Freeski-Freestyle 2023-24,RESULTADOS NIEVE 2023-24,Resultados Snowboard 2023-24,Snowboard 2023-24
END:VEVENT
BEGIN:VEVENT
DTSTART;TZID=UTC:20240326T080000
DTEND;TZID=UTC:20240327T170000
DTSTAMP:20260426T001057
CREATED:20230623T105416Z
LAST-MODIFIED:20230912T083040Z
UID:5677350-1711440000-1711558800@fadi.es
SUMMARY:Fase Final Copa Andalucía Freestyle y Snowboard - Campeonato de Andalucía Freestyle SX y Snowboard SBX
DESCRIPTION:PLAZO DE INSCRIPCION CERRADO \n\n\n\n\n\n\nCATEGORIAS: \n\n\n\n\nTodas las categorías\n\n\n\n\nÁMBITO: \n\n\n\n\nAutonómico\n\n\n\n\nLICENCIA NECESARIA: \n\n\n\n\nLicencia de Federado Temporada 2023-24
URL:https://fadi.es/eventos/fase-final-copa-andalucia-freestyle-y-snowboard-campeonato-de-andalucia-freestyle-sx-y-snowboard-sbx/
LOCATION:Sierra Nevada\, Monachil\, 18196\, España
CATEGORIES:Freestyle-Freeski 2023-24,NIEVE 2023-24,Resultados Freeski-Freestyle 2023-24,RESULTADOS NIEVE 2023-24,Resultados Snowboard 2023-24,Snowboard 2023-24
END:VEVENT
END:VCALENDAR