BEGIN:VCALENDAR
VERSION:2.0
PRODID:-//FADI - ECPv6.2.3.1//NONSGML v1.0//EN
CALSCALE:GREGORIAN
METHOD:PUBLISH
X-ORIGINAL-URL:https://fadi.es
X-WR-CALDESC:Eventos para FADI
REFRESH-INTERVAL;VALUE=DURATION:PT1H
X-Robots-Tag:noindex
X-PUBLISHED-TTL:PT1H
BEGIN:VTIMEZONE
TZID:UTC
BEGIN:STANDARD
TZOFFSETFROM:+0000
TZOFFSETTO:+0000
TZNAME:UTC
DTSTART:20230101T000000
END:STANDARD
END:VTIMEZONE
BEGIN:VEVENT
DTSTART;TZID=UTC:20230405T080000
DTEND;TZID=UTC:20230405T130000
DTSTAMP:20260422T180511
CREATED:20220719T105925Z
LAST-MODIFIED:20231016T083713Z
UID:5675356-1680681600-1680699600@fadi.es
SUMMARY:FASE FINAL COPA DE ANDALUCÍA "POLICLINICA SMD" E. ALPINO U8-U10-U12 - CTO ANDALUCIA - XXVII TROFEO AYTO MONACHIL
DESCRIPTION:PLAZO DE INSCRIPCION CERRADO \n\n\n\n\n\n\n\n\n\n\n\n\nINSCRIPCIONES: \n\n\n\nLas inscripciones de U10-U12 se tendrán que formalizar a través de la EXTRANET RFEDI.  \n\n\n\nTodos los inscritos deberán estar en posesión de la Licencia de Corredor RFEDI de E. Alpino Temporada 2.022/23.  \n\n\n\nLos clubes andaluces deberán hacer el pago en el nº de cuenta adjunto y enviar por e-mail el justificante del pago a ana.penalva@fadi.es. Se hará un sólo pago por Club. \n\n\n\nLas inscripciones de U8 se tramitarán a través de la Extranet FADI (clubes andaluces) y formulario adjunto Clubes NO Andaluces y tendrán que estar en posesión de la licencia Federativa 2022-23 \n\n\n\nCATEGORÍAS: \n\n\n\n\nU8 2015-2016\n\n\n\nU10 2013-2014\n\n\n\nU12 2011-2012\n\n\n\n\nÁMBITO: \n\n\n\n\nEstatal\n\n\n\n\nLICENCIA NECESARÍA: \n\n\n\n\nCategoría U10-U12: Licencia de Competición RFEDI E. Alpino temporada 2022-23\n\n\n\nCategoría U8: Licencia Federativa temporada 2022-23\n\n\n\n\nPROGRAMA: \n\n\n\n\n4 ABRIL:\n\n Reunión de jefes de equipo\n\n\n\n\n\n5 ABRIL:\n\nSlalom \n\n\n\nEntrega de premios en el área de meta al finalizar el evento\n\n\n\n\n\n\n\nDESCARGA DE DOCUMENTOS: \n\n\n\nNota-informativa-Cto-Andalucia-XXVII-Trofeo-Ayto-Monachil-05-04-2023Descarga\n\n\n\n\nRESULTADOS: \n\n\n\nResultados SLALOM CTO ANZ – T Ayto. Monachil 05-04-2023Descarga
URL:https://fadi.es/eventos/ff-copa-de-andalucia-cto-anz-e-alpino-u8-u10-u12-xxvii-trofeo-ayto-monachil/
LOCATION:Sierra Nevada\, Monachil\, 18196\, España
CATEGORIES:Esquí Alpino 2022-23,NIEVE 2022-23,Resultados Esquí Alpino 2022-23,RESULTADOS NIEVE 2022-23
END:VEVENT
END:VCALENDAR