BEGIN:VCALENDAR
VERSION:2.0
PRODID:-//FADI - ECPv6.2.3.1//NONSGML v1.0//EN
CALSCALE:GREGORIAN
METHOD:PUBLISH
X-WR-CALNAME:FADI
X-ORIGINAL-URL:https://fadi.es
X-WR-CALDESC:Eventos para FADI
REFRESH-INTERVAL;VALUE=DURATION:PT1H
X-Robots-Tag:noindex
X-PUBLISHED-TTL:PT1H
BEGIN:VTIMEZONE
TZID:UTC
BEGIN:STANDARD
TZOFFSETFROM:+0000
TZOFFSETTO:+0000
TZNAME:UTC
DTSTART:20230101T000000
END:STANDARD
END:VTIMEZONE
BEGIN:VEVENT
DTSTART;TZID=UTC:20230414T080000
DTEND;TZID=UTC:20230416T130000
DTSTAMP:20260422T180516
CREATED:20220720T114600Z
LAST-MODIFIED:20230403T124818Z
UID:5675417-1681459200-1681650000@fadi.es
SUMMARY:CANCELADO - CAMPEONATO DE ANDALUCIA E. ALPINO ABSOLUTO UNIVERSITARIO
DESCRIPTION:PLAZO INSCRICION CERRADO \n\n\n\n\n\n\n\n\n\n\nINSCRIPCIONES: \n\n\n\nOs recordamos que las inscripciones se tendrán que formalizar a través de la EXTRANET RFEDI.  \n\n\n\nTodos los inscritos deberán estar en posesión de la Licencia de Corredor RFEDI de E. Alpino Temporada 2.022/23. \n\n\n\nCATEGORÍAS: \n\n\n\nABSOLUTOS: SENIOR (1993-2001)\, U21 (2002\,2003\,2004)\, U18 (2005-2006)\n\n\n\nÁMBITO: \n\n\n\nNacional\n\n\n\nLICENCIA NECESARÍA: \n\n\n\nLicencia de Competición RFEDI E. Alpino temporada 2021-22\n\n\n\nPROGRAMA: \n\n\n\n13 ABRIL:Reunión de jefes de equipo14 ABRIL:Súper GiganteReunión de jefes de equipo15 ABRIL:Slalom GiganteReunión de jefes de equipo16 ABRILSlalomEntrega de premios\n\n\n\nDESCARGE DE DOCUMENTOS: \n\n\n\nRESULTADOS:
URL:https://fadi.es/eventos/campeonato-de-andalucia-e-alpino-absoluto-2/
LOCATION:Sierra Nevada\, Monachil\, 18196\, España
CATEGORIES:Esquí Alpino 2022-23,NIEVE 2022-23,Resultados Esquí Alpino 2022-23,RESULTADOS NIEVE 2022-23
END:VEVENT
END:VCALENDAR