BEGIN:VCALENDAR
VERSION:2.0
PRODID:-//FADI - ECPv6.2.3.1//NONSGML v1.0//EN
CALSCALE:GREGORIAN
METHOD:PUBLISH
X-ORIGINAL-URL:https://fadi.es
X-WR-CALDESC:Eventos para FADI
REFRESH-INTERVAL;VALUE=DURATION:PT1H
X-Robots-Tag:noindex
X-PUBLISHED-TTL:PT1H
BEGIN:VTIMEZONE
TZID:UTC
BEGIN:STANDARD
TZOFFSETFROM:+0000
TZOFFSETTO:+0000
TZNAME:UTC
DTSTART:20240101T000000
END:STANDARD
END:VTIMEZONE
BEGIN:VEVENT
DTSTART;TZID=UTC:20240119T080000
DTEND;TZID=UTC:20240120T170000
DTSTAMP:20260426T011744
CREATED:20230623T083426Z
LAST-MODIFIED:20240131T191835Z
UID:5677292-1705651200-1705770000@fadi.es
SUMMARY:1ª Fase Copa de Andalucía E. Alpino - XVIII Trofeo Club Monachil
DESCRIPTION:PLAZO DE INSCRIPCIÓN CERRADO \n\n\n\n\n\n\nCATEGORIAS: \n\n\n\n\nU14-U16\n\n\n\n\nÁMBITO: \n\n\n\n\nEstatal\n\n\n\n\nLICENCIA NECESARIA: \n\n\n\n\nLicencia RFEDI Temporada 2023-24\n\n\n\n\n\n\n\n\n\n\n\n\n\n\n\nRESULTADOS \n\n\n\n\nTROFEO MONACHIL U14 DAMAS\n\n\n\nTROFEO MONACHIL U16 DAMAS\n\n\n\nTROFEO MONACHIL U14 HOMBRES\n\n\n\nTROFEO MONACHIL U16 HOMBRES
URL:https://fadi.es/eventos/1a-fase-copa-de-andalucia-e-alpino-xviii-trofeo-club-monachil/
LOCATION:Sierra Nevada\, Monachil\, 18196\, España
CATEGORIES:Esquí Alpino 2023-24,NIEVE 2023-24,Resultados Esqui Alpino 2023-24,RESULTADOS NIEVE 2023-24
END:VEVENT
END:VCALENDAR