BEGIN:VCALENDAR
VERSION:2.0
PRODID:-//FADI - ECPv6.2.3.1//NONSGML v1.0//EN
CALSCALE:GREGORIAN
METHOD:PUBLISH
X-WR-CALNAME:FADI
X-ORIGINAL-URL:https://fadi.es
X-WR-CALDESC:Eventos para FADI
REFRESH-INTERVAL;VALUE=DURATION:PT1H
X-Robots-Tag:noindex
X-PUBLISHED-TTL:PT1H
BEGIN:VTIMEZONE
TZID:UTC
BEGIN:STANDARD
TZOFFSETFROM:+0000
TZOFFSETTO:+0000
TZNAME:UTC
DTSTART:20220101T000000
END:STANDARD
END:VTIMEZONE
BEGIN:VEVENT
DTSTART;TZID=UTC:20220220T090000
DTEND;TZID=UTC:20220220T140000
DTSTAMP:20260425T223208
CREATED:20210917T070259Z
LAST-MODIFIED:20220209T101556Z
UID:5673107-1645347600-1645365600@fadi.es
SUMMARY:CANCELADA - FASE FINAL COPA DE ANDALUCÍA MUSHING - TROFEO CANICROSS PRIEGO
DESCRIPTION:PRUEBA CANCELADA
URL:https://fadi.es/eventos/fase-final-copa-de-andalucia-mushing-trofeo-canicross-priego/
LOCATION:Priego de Córdoba\, Priego de Córdoba\, Córdoba\, España
CATEGORIES:Mushing 2021-22,Resultados Mushing 2021-22,RESULTADOS TIERRA 2021-22,TIERRA 2021-22
END:VEVENT
END:VCALENDAR