BEGIN:VCALENDAR
VERSION:2.0
PRODID:-//FADI - ECPv6.2.3.1//NONSGML v1.0//EN
CALSCALE:GREGORIAN
METHOD:PUBLISH
X-ORIGINAL-URL:https://fadi.es
X-WR-CALDESC:Eventos para FADI
REFRESH-INTERVAL;VALUE=DURATION:PT1H
X-Robots-Tag:noindex
X-PUBLISHED-TTL:PT1H
BEGIN:VTIMEZONE
TZID:UTC
BEGIN:STANDARD
TZOFFSETFROM:+0000
TZOFFSETTO:+0000
TZNAME:UTC
DTSTART:20230101T000000
END:STANDARD
END:VTIMEZONE
BEGIN:VEVENT
DTSTART;TZID=UTC:20230113T080000
DTEND;TZID=UTC:20230115T170000
DTSTAMP:20260424T161601
CREATED:20220719T093837Z
LAST-MODIFIED:20230410T074443Z
UID:5675341-1673596800-1673802000@fadi.es
SUMMARY:COPA DE ESPAÑA MUSHING - TROFEO DUNHUELLAS
DESCRIPTION:PLAZO DE INSCRIPCION CERRADO \n\n\n\n\n\n\n\n\n\n\nINSCRIPCIONES: \n\n\n\nLas solicitudes de inscripción deberán realizarse a través de la Extranet de la RFEDI.\n\n\n\nCATEGORÍAS: \n\n\n\nSegún Anexo I Reglamento General de Mushing RFEDI (RGM RFEDI)\n\n\n\nÁMBITO: \n\n\n\nEstatal\n\n\n\nLICENCIA NECESARÍA: \n\n\n\nLicencia de Competición RFEDI Mushing temporada 2022-23\n\n\n\nPROGRAMA: \n\n\n\nVIERNES 13 ENERO: Control Veterinario y entrega de dorsalesReunión Delegados de Equipo (Musher meeting) onlineSÁBADO 14 ENERO:Control veterinario y entrega dorsalesSalida 1er participantePublicación de resultadosDOMINGO 15 ENEROSalida 1er Participante1Publicación de resultadosReparto de Premios\n\n\n\nDESCARGA DE DOCUMENTOS: \n\n\n\nNota Informativa Alcala de Guadaira CE MushingDescarga\n\n\n\nRESULTADOS: \n\n\n\nVer resultados Copa de España Mushing
URL:https://fadi.es/eventos/copa-de-espana-mushing-trofeo-dunhuellas-2/
LOCATION:Alcalá de Guadaira\, Alcalá de Guadaira\, Sevilla\, España
CATEGORIES:Mushing 2022-23,Resultados Mushing 2022-23,RESULTADOS TIERRA 2022-23,TIERRA 2022-23
END:VEVENT
END:VCALENDAR