BEGIN:VCALENDAR
VERSION:2.0
PRODID:-//FADI - ECPv6.2.3.1//NONSGML v1.0//EN
CALSCALE:GREGORIAN
METHOD:PUBLISH
X-ORIGINAL-URL:https://fadi.es
X-WR-CALDESC:Eventos para FADI
REFRESH-INTERVAL;VALUE=DURATION:PT1H
X-Robots-Tag:noindex
X-PUBLISHED-TTL:PT1H
BEGIN:VTIMEZONE
TZID:UTC
BEGIN:STANDARD
TZOFFSETFROM:+0000
TZOFFSETTO:+0000
TZNAME:UTC
DTSTART:20230101T000000
END:STANDARD
END:VTIMEZONE
BEGIN:VEVENT
DTSTART;TZID=UTC:20230217T080000
DTEND;TZID=UTC:20230218T170000
DTSTAMP:20260426T033046
CREATED:20220719T113321Z
LAST-MODIFIED:20230208T120741Z
UID:5675372-1676620800-1676739600@fadi.es
SUMMARY:APLAZADA - 2ª FASE COPA DE ANDALUCIA "BMS GROUP" FREESTYLE - V TROFEO CAJA RURAL SS
DESCRIPTION:COMPETICION APLAZADA \n\n\n\n\n\n\n\n\n\n\nINSCRIPCIONES: \n\n\n\n CATEGORÍAS: \n\n\n\nABSOLUTOS: U15-U17-U19: (2005-2009) + SENIOR (2004 y anteriores)U11-U13 (2010-2013)U9 (2014 – 2015)\n\n\n\nÁMBITO: \n\n\n\nAutonómica\n\n\n\nLICENCIA NECESARÍA: \n\n\n\nLicencia de Federado temporada 2022-23\n\n\n\nPROGRAMA: \n\n\n\n16 FEBRERO:Reunión de jefes de equipo17 FEBREROEntrenamientos Slopestyle 18 FEBREROCompetición Slopoestyle SSEntrega de premios en meta 30′ tras publicarse resultados oficiales\n\n\n\nDESCARGA DE DOCUMENTOS:
URL:https://fadi.es/eventos/2a-fase-copa-de-andalucia-freestyle-v-trofeo-caja-rural-ss/
LOCATION:Sierra Nevada\, Monachil\, 18196\, España
CATEGORIES:Freestyle-Freeski 2022-23,NIEVE 2022-23,Resultados Freestyle-Freeski 2022-23,RESULTADOS NIEVE 2022-23
END:VEVENT
BEGIN:VEVENT
DTSTART;TZID=UTC:20230217T080000
DTEND;TZID=UTC:20230219T130000
DTSTAMP:20260426T033046
CREATED:20220719T113544Z
LAST-MODIFIED:20230208T120756Z
UID:5675374-1676620800-1676811600@fadi.es
SUMMARY:APLAZADA - 2ª FASE COPA DE ANDALUCIA  "BMS GROUP" SNOWBOARD - V TROFEO CAJA RURAL SBS
DESCRIPTION:COMPETICION APLAZADA \n\n\n\n\n\n\n\n\n\nINSCRIPCIONES: \n\n\n\n CATEGORÍAS: \n\n\n\nABSOLUTOS: U15-U17-U19: (2005-2009) + SENIOR (2004 y anteriores)U11-U13 (2010-2013)U9 (2014 – 2015)\n\n\n\nÁMBITO: \n\n\n\nAutonómica\n\n\n\nLICENCIA NECESARÍA: \n\n\n\nLicencia de Federado temporada 2022-23\n\n\n\nPROGRAMA: \n\n\n\n16 FEBRERO:Reunión de jefes de equipo17 FEBREROEntrenamientos Slopestyle 19 FEBREROCompetición Slopoestyle SBSEntrega de premios en meta 30′ tras publicarse resultados oficiales\n\n\n\nDESCARGA DE DOCUMENTOS:
URL:https://fadi.es/eventos/2a-fase-copa-de-andalucia-snowboard-v-trofeo-caja-rural-sbs/
LOCATION:Sierra Nevada\, Monachil\, 18196\, España
CATEGORIES:NIEVE 2022-23,RESULTADOS NIEVE 2022-23,Resultados Snowboard 2022-23,Snowboard 2022-23
END:VEVENT
BEGIN:VEVENT
DTSTART;TZID=UTC:20230225T080000
DTEND;TZID=UTC:20230225T130000
DTSTAMP:20260426T033046
CREATED:20220719T101640Z
LAST-MODIFIED:20230320T083428Z
UID:5675343-1677312000-1677330000@fadi.es
SUMMARY:CANCELADA - 1ª FASE COPA DE ANDALUCIA "BMS GROUP" FREESTYLE - VII TROFEO REYES SANTA OLALLA MO
DESCRIPTION:PLAZO DE INSCRIPCIÓN CERRADO \n\n\n\n\n\n\n\n\n\n\n\n\n\nINSCRIPCIONES: \n\n\n\nClubes Andaluces: Las inscripciones se tendrán que formalizar a través de la EXTRANET FADI. Todos los inscritos deberán estar en posesión de la Licencia de Federado FADI Temporada 2.022/23. \n\n\n\nClubes NO andaluces: Deberan enviar por e-mail formulario de inscripción y justificante de pago en el nº de cuenta adjunto a ana.penalva@fadi.es. Se hará un sólo pago por Federación. \n\n\n\nFORMULARIO INSCRIPCION FREESTYLEDescarga\n\n\n\nCATEGORÍAS: \n\n\n\n\nU8: 2015-2026 | U10: 2013-2014 | U14-U12: 2009-2012 | ABSOLUTOS (U21-U18U-16-SENIOR): 2008 o anteriores\n\n\n\nÁMBITO: \n\n\n\nAutonómica\n\n\n\nLICENCIA NECESARÍA: \n\n\n\nLicencia de Federado FADI temporada 2022-23\n\n\n\nPROGRAMA: \n\n\n\n24 FEBRERO: Reunión de jefes de equipo 25 FEBREROBachesEntrega de premios\n\n\n\nDESCARGA DE DOCUMENTOS: \n\n\n\n\n\n\nNOTA INFORMATIVA VII TRF. FREESTYLE CLUB E. MONACHIL-REYES SANTA OLALLA 25-02-2023Descarga
URL:https://fadi.es/eventos/1a-fase-copa-de-andalucia-freestyle-v-trofeo-reyes-santa-olalla/
CATEGORIES:Freestyle-Freeski 2022-23,NIEVE 2022-23,Resultados Freestyle-Freeski 2022-23,RESULTADOS NIEVE 2022-23
END:VEVENT
BEGIN:VEVENT
DTSTART;TZID=UTC:20230226T080000
DTEND;TZID=UTC:20230226T130000
DTSTAMP:20260426T033046
CREATED:20230217T141511Z
LAST-MODIFIED:20230320T083539Z
UID:5676595-1677398400-1677416400@fadi.es
SUMMARY:CANCELADA-1ª FASE COPA DE ANDALUCIA "BMS GROUP" FREESTYLE - III TROFEO NAZARI MO
DESCRIPTION:PLAZO DE INSCRIPCIÓN CERRADO \n\n\n\n\n\n\n\n\n\n\n\nINSCRIPCIONES: \n\n\n\nClubes Andaluces: Las inscripciones se tendrán que formalizar a través de la EXTRANET FADI. Todos los inscritos deberán estar en posesión de la Licencia de Federado FADI Temporada 2.022/23. \n\n\n\nClubes NO andaluces: Deberan enviar por e-mail formulario de inscripción y justificante de pago en el nº de cuenta adjunto a ana.penalva@fadi.es. Se hará un sólo pago por Federación. \n\n\n\nFORMULARIO INSCRIPCION FREESTYLEDescarga\n\n\n\nCATEGORÍAS: \n\n\n\n\nU8: 2015-2026 | U10: 2013-2014 | U14-U12: 2009-2012 | ABSOLUTOS (U21-U18U-16-SENIOR): 2008 o anteriores\n\n\n\nÁMBITO: \n\n\n\nAutonómica\n\n\n\nLICENCIA NECESARÍA: \n\n\n\nLicencia de Federado FADI temporada 2022-23\n\n\n\nPROGRAMA: \n\n\n\n25 FEBRERO: Reunión de jefes de equipo 26 FEBREROBachesEntrega de premios\n\n\n\nDESCARGA DE DOCUMENTOS: \n\n\n\nNOTA INFORMATIVA III TRF. FREESTYLE CLUB NAZARI 26-02-2023Descarga
URL:https://fadi.es/eventos/1a-fase-copa-de-andalucia-bms-group-freestyle-iii-trofeo-nazari-mo/
CATEGORIES:Freestyle-Freeski 2022-23,NIEVE 2022-23,Resultados Freestyle-Freeski 2022-23,RESULTADOS NIEVE 2022-23
END:VEVENT
END:VCALENDAR