BEGIN:VCALENDAR
VERSION:2.0
PRODID:-//FADI - ECPv6.2.3.1//NONSGML v1.0//EN
CALSCALE:GREGORIAN
METHOD:PUBLISH
X-WR-CALNAME:FADI
X-ORIGINAL-URL:https://fadi.es
X-WR-CALDESC:Eventos para FADI
REFRESH-INTERVAL;VALUE=DURATION:PT1H
X-Robots-Tag:noindex
X-PUBLISHED-TTL:PT1H
BEGIN:VTIMEZONE
TZID:UTC
BEGIN:STANDARD
TZOFFSETFROM:+0000
TZOFFSETTO:+0000
TZNAME:UTC
DTSTART:20240101T000000
END:STANDARD
END:VTIMEZONE
BEGIN:VEVENT
DTSTART;TZID=UTC:20240204T080000
DTEND;TZID=UTC:20240204T170000
DTSTAMP:20260424T210211
CREATED:20230623T101023Z
LAST-MODIFIED:20240208T164422Z
UID:5677316-1707033600-1707066000@fadi.es
SUMMARY:3ª Fase Copa de Andalucía Mushing
DESCRIPTION:PLAZO DE INSCRIPCIÓN CERRADO \n\n\n\n\n\n\nCATEGORIAS: \n\n\n\n\nTodas las categorías\n\n\n\n\nÁMBITO: \n\n\n\n\nAutonómica\n\n\n\n\nLICENCIA NECESARIA: \n\n\n\n\nLicencia de Federado Temporada 2023-24\n\n\n\n\n\n\n\n\n\n\n\n\n\n\n\n\n\nResultados\n\n\n\n\nBikejokering\n\n\n\nCanicross U7\n\n\n\nCanicross U13\n\n\n\nCanicross\n\n\n\nDR 4\n\n\n\nDS 1\n\n\n\nDS 2
URL:https://fadi.es/eventos/campeonato-de-andalucia-mushing/
LOCATION:La Barca de la Florida\, Cadiz
CATEGORIES:MUSHING 2023-24,RESULTADOS MUSHING 2023-24
END:VEVENT
BEGIN:VEVENT
DTSTART;TZID=UTC:20240210T080000
DTEND;TZID=UTC:20240211T170000
DTSTAMP:20260424T210211
CREATED:20230623T100650Z
LAST-MODIFIED:20230912T082240Z
UID:5677315-1707552000-1707670800@fadi.es
SUMMARY:1ª Fase Copa de Andalucía Freestyle y Snowboard - II Trofeo Slopestyle Caja Rural
DESCRIPTION:FECHA PENDIENTE DE CONFIRMACIÓN – PLAZO DE INSCRIPCION CERRADO \n\n\n\n\n\n\nCATEGORIAS: \n\n\n\n\nTodas las categorías\n\n\n\n\nÁMBITO: \n\n\n\n\nAutonómica\n\n\n\n\nLICENCIA NECESARIA: \n\n\n\n\nLicencia de Federado Temporada 2023-24
URL:https://fadi.es/eventos/1a-fase-copa-de-andalucia-freestyle-y-snowboard-ii-trofeo-slopestyle-caja-rural/
LOCATION:Sierra Nevada\, Monachil\, 18196\, España
CATEGORIES:Freestyle-Freeski 2023-24,NIEVE 2023-24,Resultados Freeski-Freestyle 2023-24,RESULTADOS NIEVE 2023-24,Resultados Snowboard 2023-24,Snowboard 2023-24
END:VEVENT
BEGIN:VEVENT
DTSTART;TZID=UTC:20240218T080000
DTEND;TZID=UTC:20240218T170000
DTSTAMP:20260424T210211
CREATED:20230622T121511Z
LAST-MODIFIED:20230918T091018Z
UID:5677261-1708243200-1708275600@fadi.es
SUMMARY:Campeonato de Andalucía Mushing - II Trofeo Córdoba Mushing
DESCRIPTION:PLAZO DE INSCRIPCIÓN CERRADO \n\n\n\n\n\nCATEGORIAS: \n\n\n\n\nTodas las categorías\n\n\n\n\nÁMBITO: \n\n\n\n\nAutonómico\n\n\n\n\nLICENCIA NECESARIA: \n\n\n\n\nLicencia de Federado Temporada 2023-24
URL:https://fadi.es/eventos/1a-fase-copa-andalucia-mushing-ii-trofeo-cordoba-mushing/
LOCATION:El Guijo\, Córdoba\, El Guijo\, Cordoba\, España
CATEGORIES:MUSHING 2023-24,RESULTADOS MUSHING 2023-24
END:VEVENT
BEGIN:VEVENT
DTSTART;TZID=UTC:20240224T080000
DTEND;TZID=UTC:20240224T170000
DTSTAMP:20260424T210211
CREATED:20230623T101654Z
LAST-MODIFIED:20230623T111045Z
UID:5677321-1708761600-1708794000@fadi.es
SUMMARY:2ª Fase Copa de Andalucía Freestyle MO - VII Trofeo Reyes Santa Olalla MO
DESCRIPTION:PLAZO DE INSCRIPCION CERRADO \n\n\n\n\n\n\nCATEGORIAS: \n\n\n\n\nTodas las categorías\n\n\n\n\nÁMBITO: \n\n\n\n\nAutonómico\n\n\n\n\nLICENCIA NECESARIA: \n\n\n\n\nLicencia de Federado Temporada 2023-24
URL:https://fadi.es/eventos/2a-fase-copa-de-andalucia-freestyle-mo-vii-trofeo-reyes-santa-olalla-mo/
LOCATION:Sierra Nevada\, Monachil\, 18196\, España
CATEGORIES:Freestyle-Freeski 2023-24,NIEVE 2023-24,Resultados Freeski-Freestyle 2023-24,RESULTADOS NIEVE 2023-24
END:VEVENT
BEGIN:VEVENT
DTSTART;TZID=UTC:20240225T080000
DTEND;TZID=UTC:20240225T170000
DTSTAMP:20260424T210211
CREATED:20230623T101741Z
LAST-MODIFIED:20230623T111050Z
UID:5677322-1708848000-1708880400@fadi.es
SUMMARY:2ª Fase Copa de Andalucía Freestyle MO - III Trofeo Nazari MO
DESCRIPTION:PLAZO DE INSCRIPCION CERRADO \n\n\n\n\n\n\nCATEGORIAS: \n\n\n\n\nTodas las categorías\n\n\n\n\nÁMBITO: \n\n\n\n\nAutonómico\n\n\n\n\nLICENCIA NECESARIA: \n\n\n\n\nLicencia de Federado Temporada 2023-24
URL:https://fadi.es/eventos/2a-fase-copa-de-andalucia-freestyle-mo-iii-trofeo-nazari-mo/
LOCATION:Sierra Nevada\, Monachil\, 18196\, España
CATEGORIES:Freestyle-Freeski 2023-24,NIEVE 2023-24,Resultados Freeski-Freestyle 2023-24,RESULTADOS NIEVE 2023-24
END:VEVENT
BEGIN:VEVENT
DTSTART;TZID=UTC:20240228T080000
DTEND;TZID=UTC:20240228T170000
DTSTAMP:20260424T210211
CREATED:20230623T102250Z
LAST-MODIFIED:20230912T082959Z
UID:5677328-1709107200-1709139600@fadi.es
SUMMARY:Evento de promoción FIS SNOW KIDZ
DESCRIPTION:PLAZO DE INSCRIPCION CERRADO \n\n\n\n\n\n\nCATEGORIAS: \n\n\n\n\nTodas las categorías\n\n\n\n\nÁMBITO: \n\n\n\n\nAutonómico\n\n\n\n\nLICENCIA NECESARIA: \n\n\n\n\nLicencia de Federado Temporada 2023-24
URL:https://fadi.es/eventos/evento-de-promocion-fis-snow-kidz/
LOCATION:Sierra Nevada\, Monachil\, 18196\, España
CATEGORIES:Esquí Alpino 2023-24,Freestyle-Freeski 2023-24,NIEVE 2023-24,Resultados Esqui Alpino 2023-24,Resultados Freeski-Freestyle 2023-24,RESULTADOS NIEVE 2023-24,Resultados Snowboard 2023-24,Snowboard 2023-24
END:VEVENT
END:VCALENDAR