BEGIN:VCALENDAR
VERSION:2.0
PRODID:-//FADI - ECPv6.2.3.1//NONSGML v1.0//EN
CALSCALE:GREGORIAN
METHOD:PUBLISH
X-ORIGINAL-URL:https://fadi.es
X-WR-CALDESC:Eventos para FADI
REFRESH-INTERVAL;VALUE=DURATION:PT1H
X-Robots-Tag:noindex
X-PUBLISHED-TTL:PT1H
BEGIN:VTIMEZONE
TZID:UTC
BEGIN:STANDARD
TZOFFSETFROM:+0000
TZOFFSETTO:+0000
TZNAME:UTC
DTSTART:20230101T000000
END:STANDARD
END:VTIMEZONE
BEGIN:VEVENT
DTSTART;TZID=UTC:20230204T080000
DTEND;TZID=UTC:20230205T130000
DTSTAMP:20260423T191151
CREATED:20220719T111101Z
LAST-MODIFIED:20230410T075422Z
UID:5675360-1675497600-1675602000@fadi.es
SUMMARY:FASE FINAL COPA DE ANDALUCIA MUSHING - CTO ANDALUCIA MUSHING
DESCRIPTION:PLAZO ABIERTO HASTA EL MIERCOLES DÍA 01 DE FEBRERO A LAS 12:00H \n\n\n\n\n\n\n\n\n\n\n\n\n\n\n\nINSCRIPCIONES: \n\n\n\nLas solicitudes de inscripción\, para el Campeonato de Andalucía de Mushing deberán realizarse a través de la página de inscripciones www.global-tempo.com. \n\n\n\nÁMBITO: \n\n\n\nAutonómica – Open\n\n\n\nLICENCIA NECESARÍA: \n\n\n\nLicencia de Federado temporada 2022-23 Licencia de día (obligatoria para los deportistas que no tenga la Licencia de Federado Anual)\n\n\n\nPROGRAMA: \n\n\n\nSábado 04 FEBRERO:Reconocimiento Veterinario Horario de tarde  y recogida de dorsales (a concretar)Desfile por Clubes por La Barca de la FloridaTaller Educativo sobre Mushing Domingo 05 FEBREROE:RECONOCIMIENTO VETERINARIO Y RECOGIDA DE DORSALES:Musher Meeting: 7:45 hSALIDAS (Horarios provisionales – Según hora amanecer):CARROS: 8:20hSCOOTER: 8:45hBIKEJORING: 9:10hCANICROSS: 9:30hCANICROSS JUNIOR: 10:30hCANICROSS INFANTI: 11:30h\n\n\n\n\nDESCARGA DE DOCUMENTOS \n\n\n\n\nNota Infomativa Cto Andalucía Mushing Cádiz 05-02-2023Descarga\n\n\n\nRESULTADOS: \n\n\n\nVer resultados
URL:https://fadi.es/eventos/fase-final-copa-de-andalucia-mushing-cto-andalucia-mushing/
CATEGORIES:Mushing 2022-23,Resultados Mushing 2022-23,RESULTADOS TIERRA 2022-23,TIERRA 2022-23
END:VEVENT
END:VCALENDAR