BEGIN:VCALENDAR
VERSION:2.0
PRODID:-//FADI - ECPv6.2.3.1//NONSGML v1.0//EN
CALSCALE:GREGORIAN
METHOD:PUBLISH
X-ORIGINAL-URL:https://fadi.es
X-WR-CALDESC:Eventos para FADI
REFRESH-INTERVAL;VALUE=DURATION:PT1H
X-Robots-Tag:noindex
X-PUBLISHED-TTL:PT1H
BEGIN:VTIMEZONE
TZID:UTC
BEGIN:STANDARD
TZOFFSETFROM:+0000
TZOFFSETTO:+0000
TZNAME:UTC
DTSTART:20230101T000000
END:STANDARD
END:VTIMEZONE
BEGIN:VEVENT
DTSTART;TZID=UTC:20230228T080000
DTEND;TZID=UTC:20230228T130000
DTSTAMP:20260420T210048
CREATED:20220719T120521Z
LAST-MODIFIED:20220720T120206Z
UID:5675381-1677571200-1677589200@fadi.es
SUMMARY:EVENTO DE PROMOCION CATEGORIA U6
DESCRIPTION:PLAZO DE INSCRIPCION CERRADO
URL:https://fadi.es/eventos/evento-de-promocion-u6/
LOCATION:Sierra Nevada\, Monachil\, 18196\, España
CATEGORIES:FADI
END:VEVENT
END:VCALENDAR