BEGIN:VCALENDAR
VERSION:2.0
PRODID:-//FADI - ECPv6.2.3.1//NONSGML v1.0//EN
CALSCALE:GREGORIAN
METHOD:PUBLISH
X-WR-CALNAME:FADI
X-ORIGINAL-URL:https://fadi.es
X-WR-CALDESC:Eventos para FADI
REFRESH-INTERVAL;VALUE=DURATION:PT1H
X-Robots-Tag:noindex
X-PUBLISHED-TTL:PT1H
BEGIN:VTIMEZONE
TZID:UTC
BEGIN:STANDARD
TZOFFSETFROM:+0000
TZOFFSETTO:+0000
TZNAME:UTC
DTSTART:20240101T000000
END:STANDARD
END:VTIMEZONE
BEGIN:VEVENT
DTSTART;TZID=UTC:20240405T080000
DTEND;TZID=UTC:20240407T170000
DTSTAMP:20260425T000325
CREATED:20230623T110444Z
LAST-MODIFIED:20240416T095415Z
UID:5677358-1712304000-1712509200@fadi.es
SUMMARY:XLIX Trofeo Nacional de Veteranos Memorial Juan Luís Hernández - Copa de España Master - Cto Andalucía Master
DESCRIPTION:PLAZO DE INSCRIPCION CERRADO \n\n\n\n\n\nCATEGORIAS: \n\n\n\n\nMaster\n\n\n\n\nÁMBITO: \n\n\n\n\nEstatal\n\n\n\n\nLICENCIA NECESARIA: \n\n\n\n\nLicencia RFEDI Temporada 2023-24\n\n\n\n\n\n\n\n\n\n\n\n\n\n\n\nResultados SG 2024
URL:https://fadi.es/eventos/xlix-trofeo-nacional-de-veteranos-memorial-juan-luis-hernandez-copa-de-espana-master-cto-andalucia-master/
LOCATION:Sierra Nevada\, Monachil\, 18196\, España
CATEGORIES:Esquí Alpino 2023-24,NIEVE 2023-24,Resultados Esqui Alpino 2023-24,RESULTADOS NIEVE 2023-24
END:VEVENT
BEGIN:VEVENT
DTSTART;TZID=UTC:20240406T080000
DTEND;TZID=UTC:20240406T170000
DTSTAMP:20260425T000325
CREATED:20230623T105959Z
LAST-MODIFIED:20230912T083048Z
UID:5677353-1712390400-1712422800@fadi.es
SUMMARY:Fase Final Copa de Andalucía E. Alpino U6-U8-U10-U12 - V Trofeo Carolina Ruiz Challengue SCG
DESCRIPTION:PLAZO DE INSCRIPCION CERRADO \n\n\n\n\n\n\n\nCATEGORIAS: \n\n\n\n\nU6-U8-U10-U12\n\n\n\n\nÁMBITO: \n\n\n\n\nAutonómico y Estatal\n\n\n\n\nLICENCIA NECESARIA: \n\n\n\n\nLicencia de Federado y RFEDI Temporada 2023-24
URL:https://fadi.es/eventos/fase-final-copa-de-andalucia-e-alpino-u6-u8-u10-u12-v-trofeo-carolina-ruiz-challengue-scg/
LOCATION:Sierra Nevada\, Monachil\, 18196\, España
CATEGORIES:Esquí Alpino 2023-24,NIEVE 2023-24,Resultados Esqui Alpino 2023-24,RESULTADOS NIEVE 2023-24
END:VEVENT
BEGIN:VEVENT
DTSTART;TZID=UTC:20240406T080000
DTEND;TZID=UTC:20240407T170000
DTSTAMP:20260425T000325
CREATED:20230623T110729Z
LAST-MODIFIED:20240416T085954Z
UID:5677360-1712390400-1712509200@fadi.es
SUMMARY:Campeonato de Andalucía E. Alpino Absoluto Universitario
DESCRIPTION:PLAZO DE INSCRIPCION CERRADO \n\n\n\n\n\nCATEGORIAS: \n\n\n\n\nAbsoluta\n\n\n\n\nÁMBITO: \n\n\n\n\nEstatal\n\n\n\n\nLICENCIA NECESARIA: \n\n\n\n\nLicencia RFEDI Temporada 2023-24
URL:https://fadi.es/eventos/campeonato-de-andalucia-e-alpino-absoluto-universitario/
LOCATION:Sierra Nevada\, Monachil\, 18196\, España
CATEGORIES:Esquí Alpino 2023-24,NIEVE 2023-24,Resultados Esqui Alpino 2023-24,RESULTADOS NIEVE 2023-24
END:VEVENT
BEGIN:VEVENT
DTSTART;TZID=UTC:20240407T080000
DTEND;TZID=UTC:20240407T170000
DTSTAMP:20260425T000325
CREATED:20230623T105957Z
LAST-MODIFIED:20230912T083056Z
UID:5677354-1712476800-1712509200@fadi.es
SUMMARY:Fase Final Copa de Andalucía E. Alpino U6-U8-U10-U12 - XVIII Trofeo Ruralito
DESCRIPTION:PLAZO DE INSCRIPCION CERRADO \n\n\n\n\n\n\nCATEGORIAS: \n\n\n\n\nU6-U8-U10-U12\n\n\n\n\nÁMBITO: \n\n\n\n\nAutonómico y Estatal\n\n\n\n\nLICENCIA NECESARIA: \n\n\n\n\nLicencia de Federado y RFEDI Temporada 2023-24
URL:https://fadi.es/eventos/fase-final-copa-de-andalucia-e-alpino-u6-u8-u10-u12-xviii-trofeo-ruralito/
LOCATION:Sierra Nevada\, Monachil\, 18196\, España
CATEGORIES:Esquí Alpino 2023-24,NIEVE 2023-24,Resultados Esqui Alpino 2023-24,RESULTADOS NIEVE 2023-24
END:VEVENT
BEGIN:VEVENT
DTSTART;TZID=UTC:20240411T080000
DTEND;TZID=UTC:20240411T170000
DTSTAMP:20260425T000325
CREATED:20240329T125117Z
LAST-MODIFIED:20240415T151202Z
UID:5678165-1712822400-1712854800@fadi.es
SUMMARY:Trofeo FADI E. Alpino U14 - U16
DESCRIPTION:Resultados SG 11_04_24
URL:https://fadi.es/eventos/trofeo-fadi-e-alpino-u14-u16-2/
END:VEVENT
BEGIN:VEVENT
DTSTART;TZID=UTC:20240412T080000
DTEND;TZID=UTC:20240414T170000
DTSTAMP:20260425T000325
CREATED:20240329T125443Z
LAST-MODIFIED:20240416T090213Z
UID:5678167-1712908800-1713114000@fadi.es
SUMMARY:Campeonato de Andalucía E. Alpino U14-U16 en Edad Escolar y DPD. Fase Final Copa de andalucía.
DESCRIPTION:Resultados Esquí Alpino SG U14\n\n\n\nResultados Esquí Alpino SG U16 \n\n\n\nClasificación final GS U14\n\n\n\nClasificación final GS U16
URL:https://fadi.es/eventos/campeonato-de-andalucia-e-alpino-u14-u16-en-edad-escolar-y-dpd-fase-final-copa-de-andalucia/
END:VEVENT
BEGIN:VEVENT
DTSTART;TZID=UTC:20240413T080000
DTEND;TZID=UTC:20240414T170000
DTSTAMP:20260425T000325
CREATED:20240329T124923Z
LAST-MODIFIED:20240719T073853Z
UID:5678162-1712995200-1713114000@fadi.es
SUMMARY:Campeonato de Andalucía Freestyle y Snowboard SS-SBS. Fase Final Copa de Andalucía.
DESCRIPTION:ANZ CAMPEONATO DE ANDALUCIA FS-SS 13-04-2024\n\n\n\nCAMPEONATO DE ANDALUCIA FS-SBS 13\,14-04-2024\n\n\n\nCAMPEONATO DE ANDALUCIA SB-SBS 13\,14-04-2024
URL:https://fadi.es/eventos/campeonato-de-andalucia-freestyle-y-snowboartd-ss-sbs-fase-final-copa-de-andalucia/
END:VEVENT
BEGIN:VEVENT
DTSTART;TZID=UTC:20240421T080000
DTEND;TZID=UTC:20240421T170000
DTSTAMP:20260425T000325
CREATED:20230623T110829Z
LAST-MODIFIED:20240329T124537Z
UID:5677362-1713686400-1713718800@fadi.es
SUMMARY:Evento cierre Temporada Nieve
DESCRIPTION:
URL:https://fadi.es/eventos/evento-cierre-temporada-nieve/
LOCATION:Sierra Nevada\, Monachil\, 18196\, España
CATEGORIES:FADI
END:VEVENT
BEGIN:VEVENT
DTSTART;TZID=UTC:20240423T080000
DTEND;TZID=UTC:20240423T170000
DTSTAMP:20260425T000325
CREATED:20240719T075005Z
LAST-MODIFIED:20240719T080410Z
UID:5678419-1713859200-1713891600@fadi.es
SUMMARY:CAMPEONATOS DE ANDALUCÍA MO - 23 de Abril 2024
DESCRIPTION:Campeonato de Andalucía MO 2024 \n\n\n\nSede: Sierra Nevada
URL:https://fadi.es/eventos/campeonatos-de-andalucia-mo-23-de-abril-2024/
END:VEVENT
BEGIN:VEVENT
DTSTART;TZID=UTC:20241123T080000
DTEND;TZID=UTC:20241124T170000
DTSTAMP:20260425T000325
CREATED:20241127T105249Z
LAST-MODIFIED:20241202T123559Z
UID:5678576-1732348800-1732467600@fadi.es
SUMMARY:1ª Fase copa Andalucía mushing: IV Trofeo Cordoba Mushing
DESCRIPTION:Fecha: 18-02-2024 08:00 horas – Evento Finalizado\n\n\n\nProvincia : CÓRDOBA\n\n\n\nLocalidad : EL GUIJO\n\n\n\nLa Federación Andaluza de Deportes de Invierno\, en colaboración con el cl C.C CÓRDOBA MUSHING TEAM organizan la COPA DE ANDALUCÍA de Mushing\, en la localidad de EL GUIJO. \n\n\n\nPara poder tramitar la licencia de federado de día será OBLIGATORIO enviar a inscripciones@global-tempo.com el documento “Consentimiento Informado Federados 2023-24» correctamente cumplimentado y firmado. En caso contrario la Licencia de federado de día no será activada \n\n\n\nRESULTADOS \n\n\n\nResultados de todas las Modalidades
URL:https://fadi.es/eventos/1a-fase-copa-andalucia-mushing-iv-trofeo-cordoba-mushing/
END:VEVENT
BEGIN:VEVENT
DTSTART;TZID=UTC:20241214T080000
DTEND;TZID=UTC:20241215T170000
DTSTAMP:20260425T000325
CREATED:20241127T105546Z
LAST-MODIFIED:20241223T114345Z
UID:5678579-1734163200-1734282000@fadi.es
SUMMARY:2ª Fase copa Andalucía mushing: III Mushing tierra Conil
DESCRIPTION:
URL:https://fadi.es/eventos/2a-fase-copa-andalucia-mushing-iii-mushing-tierra-conil/
END:VEVENT
BEGIN:VEVENT
DTSTART;TZID=UTC:20241227T080000
DTEND;TZID=UTC:20241228T170000
DTSTAMP:20260425T000325
CREATED:20241127T105715Z
LAST-MODIFIED:20241223T114624Z
UID:5678582-1735286400-1735405200@fadi.es
SUMMARY:II Trofeo FADI - U14 U16 (Aplazado por Climatología)
DESCRIPTION:
URL:https://fadi.es/eventos/ii-trofeo-fadi-u14-u16/
END:VEVENT
BEGIN:VEVENT
DTSTART;TZID=UTC:20250104T080000
DTEND;TZID=UTC:20250104T170000
DTSTAMP:20260425T000325
CREATED:20241127T105831Z
LAST-MODIFIED:20241127T121622Z
UID:5678585-1735977600-1736010000@fadi.es
SUMMARY:Evento apertura temporada 2024 - 2025
DESCRIPTION:
URL:https://fadi.es/eventos/evento-apertura-temporada-2024-2025/
END:VEVENT
BEGIN:VEVENT
DTSTART;TZID=UTC:20250111T080000
DTEND;TZID=UTC:20250111T170000
DTSTAMP:20260425T000325
CREATED:20241127T105956Z
LAST-MODIFIED:20250115T181103Z
UID:5678588-1736582400-1736614800@fadi.es
SUMMARY:1ª Fase copa Andalucía infantil: XIX Trofeo Monachil infantil
DESCRIPTION:
URL:https://fadi.es/eventos/1a-fase-copa-andalucia-infantil-xix-trofeo-monachil-infantil/
END:VEVENT
BEGIN:VEVENT
DTSTART;TZID=UTC:20250111T080000
DTEND;TZID=UTC:20250112T170000
DTSTAMP:20260425T000325
CREATED:20241127T110952Z
LAST-MODIFIED:20241127T110954Z
UID:5678594-1736582400-1736701200@fadi.es
SUMMARY:Copa España Mushing: VI Trofeo mushing Alcalá de Guadaira
DESCRIPTION:
URL:https://fadi.es/eventos/copa-espana-mushing-vi-trofeo-mushing-alcala-de-guadaira/
END:VEVENT
BEGIN:VEVENT
DTSTART;TZID=UTC:20250112T080000
DTEND;TZID=UTC:20250112T170000
DTSTAMP:20260425T000325
CREATED:20241127T110107Z
LAST-MODIFIED:20250115T181158Z
UID:5678591-1736668800-1736701200@fadi.es
SUMMARY:1ª Fase copa Andalucía infantil: XI Trofeo Ski Club Granada infantil
DESCRIPTION:
URL:https://fadi.es/eventos/1a-fase-copa-andalucia-infantil-xi-trofeo-ski-club-granada-infantil/
END:VEVENT
BEGIN:VEVENT
DTSTART;TZID=UTC:20250118T080000
DTEND;TZID=UTC:20250119T170000
DTSTAMP:20260425T000325
CREATED:20241127T111607Z
LAST-MODIFIED:20241202T122124Z
UID:5678600-1737187200-1737306000@fadi.es
SUMMARY:1ª Fase copa Andalucia absoluta y master (DPD): V Trofeo Monachil abosoluto
DESCRIPTION:
URL:https://fadi.es/eventos/1a-fase-copa-andalucia-absoluta-y-master-dpd-v-trofeo-monachil-abosoluto/
END:VEVENT
BEGIN:VEVENT
DTSTART;TZID=UTC:20250125T080000
DTEND;TZID=UTC:20250126T170000
DTSTAMP:20260425T000325
CREATED:20241127T111205Z
LAST-MODIFIED:20250113T135700Z
UID:5678597-1737792000-1737910800@fadi.es
SUMMARY:1ª Fase copa Andalucía freeski - snowboard: I Trofeo Snowtracks
DESCRIPTION:
URL:https://fadi.es/eventos/1a-fase-copa-andalucia-freeski-snowboard-i-trofeo-snowtracks/
END:VEVENT
BEGIN:VEVENT
DTSTART;TZID=UTC:20250201T080000
DTEND;TZID=UTC:20250202T170000
DTSTAMP:20260425T000325
CREATED:20241127T111729Z
LAST-MODIFIED:20250206T070631Z
UID:5678602-1738396800-1738515600@fadi.es
SUMMARY:1ª Fase copa Andalucía alevín: XXI Trofeo María José Rienda - 1 de Febrero / XXIX Trofeo Ayuntamiento de Monachil - 2 de Febrero
DESCRIPTION:Resultados del XXI Trofeos María José Rienda \n\n\n\nResultados del XXIX Trofeo Ayuntamiento de Monachil
URL:https://fadi.es/eventos/1a-fase-copa-andalucia-alevin-xxi-trofeo-maria-jose-rienda/
END:VEVENT
BEGIN:VEVENT
DTSTART;TZID=UTC:20250202T080000
DTEND;TZID=UTC:20250202T170000
DTSTAMP:20260425T000325
CREATED:20250115T180459Z
LAST-MODIFIED:20250115T180501Z
UID:5678710-1738483200-1738515600@fadi.es
SUMMARY:Campeonato de Andalucíade Mushing
DESCRIPTION:
URL:https://fadi.es/eventos/campeonato-de-andaluciade-mushing/
END:VEVENT
BEGIN:VEVENT
DTSTART;TZID=UTC:20250207T080000
DTEND;TZID=UTC:20250208T170000
DTSTAMP:20260425T000325
CREATED:20241127T112028Z
LAST-MODIFIED:20250213T084818Z
UID:5678605-1738915200-1739034000@fadi.es
SUMMARY:2ª Fase copa Andalucía infantil: XVII Trofeo Caja Rural infantil
DESCRIPTION:Esta competición\, finalmente\, se desarrolló el día 9 de Febrero. \n\n\n\nResultados
URL:https://fadi.es/eventos/2a-fase-copa-andalucia-infantil-xvii-trofeo-caja-rural-infantil/
END:VEVENT
BEGIN:VEVENT
DTSTART;TZID=UTC:20250209T080000
DTEND;TZID=UTC:20250209T170000
DTSTAMP:20260425T000325
CREATED:20241127T112156Z
LAST-MODIFIED:20250213T085113Z
UID:5678608-1739088000-1739120400@fadi.es
SUMMARY:2ª Fase copa Andalucía infantil: VII Trofeo White Camps infantil
DESCRIPTION:Esta Competición se realizó finalmente los días 7 y 8 de Febrero. \n\n\n\nResultados Viernes 7 de Febrero \n\n\n\nResultados 8 de Febrero
URL:https://fadi.es/eventos/2a-fase-copa-andalucia-infantil-vii-trofeo-white-camps-infantil/
END:VEVENT
BEGIN:VEVENT
DTSTART;TZID=UTC:20250209T080000
DTEND;TZID=UTC:20250209T170000
DTSTAMP:20260425T000325
CREATED:20241127T112241Z
LAST-MODIFIED:20241127T112243Z
UID:5678611-1739088000-1739120400@fadi.es
SUMMARY:Campeonato de Andalucía esquí de fondo
DESCRIPTION:
URL:https://fadi.es/eventos/campeonato-de-andalucia-esqui-de-fondo/
END:VEVENT
BEGIN:VEVENT
DTSTART;TZID=UTC:20250215T080000
DTEND;TZID=UTC:20250215T170000
DTSTAMP:20260425T000325
CREATED:20241127T112545Z
LAST-MODIFIED:20241127T112547Z
UID:5678615-1739606400-1739638800@fadi.es
SUMMARY:1ª Fase copa Andalucía freestyle: Trofeo Nazaries baches
DESCRIPTION:
URL:https://fadi.es/eventos/1a-fase-copa-andalucia-freestyle-trofeo-nazaries-baches/
END:VEVENT
BEGIN:VEVENT
DTSTART;TZID=UTC:20250215T080000
DTEND;TZID=UTC:20250216T170000
DTSTAMP:20260425T000325
CREATED:20241127T112410Z
LAST-MODIFIED:20241127T112412Z
UID:5678613-1739606400-1739725200@fadi.es
SUMMARY:3ª Fase copa Andalucía mushing: Campeonato de Andalucía
DESCRIPTION:
URL:https://fadi.es/eventos/3a-fase-copa-andalucia-mushing-campeonato-de-andalucia/
END:VEVENT
BEGIN:VEVENT
DTSTART;TZID=UTC:20250215T080000
DTEND;TZID=UTC:20250216T170000
DTSTAMP:20260425T000325
CREATED:20250219T171509Z
LAST-MODIFIED:20250219T171512Z
UID:5678773-1739606400-1739725200@fadi.es
SUMMARY:Copa España Inclusiva Esquí Alpino
DESCRIPTION:Resultados DPD \n\n\n\nResultados U10-U12 Gigante \n\n\n\nResultados U10-U12 Slalom
URL:https://fadi.es/eventos/copa-espana-inclusiva-esqui-alpino/
END:VEVENT
BEGIN:VEVENT
DTSTART;TZID=UTC:20250216T080000
DTEND;TZID=UTC:20250216T170000
DTSTAMP:20260425T000325
CREATED:20241127T112645Z
LAST-MODIFIED:20250213T085740Z
UID:5678618-1739692800-1739725200@fadi.es
SUMMARY:1ª Fase copa Andalucía freestyle: VII Trofeo Reyes Santa Olalla
DESCRIPTION:
URL:https://fadi.es/eventos/1a-fase-copa-andalucia-freestyle-vii-trofeo-reyes-santa-olalla/
END:VEVENT
BEGIN:VEVENT
DTSTART;TZID=UTC:20250220T080000
DTEND;TZID=UTC:20250220T170000
DTSTAMP:20260425T000325
CREATED:20241127T112826Z
LAST-MODIFIED:20241127T112828Z
UID:5678621-1740038400-1740070800@fadi.es
SUMMARY:I Trofeo NSC Ski Games infantil
DESCRIPTION:
URL:https://fadi.es/eventos/i-trofeo-nsc-ski-games-infantil/
END:VEVENT
BEGIN:VEVENT
DTSTART;TZID=UTC:20250221T080000
DTEND;TZID=UTC:20250223T170000
DTSTAMP:20260425T000325
CREATED:20241127T113023Z
LAST-MODIFIED:20241127T113024Z
UID:5678624-1740124800-1740330000@fadi.es
SUMMARY:3ª Fase copa España U14-U16 esquí alpino
DESCRIPTION:
URL:https://fadi.es/eventos/3a-fase-copa-espana-u14-u16-esqui-alpino/
END:VEVENT
BEGIN:VEVENT
DTSTART;TZID=UTC:20250225T080000
DTEND;TZID=UTC:20250226T170000
DTSTAMP:20260425T000325
CREATED:20241127T113151Z
LAST-MODIFIED:20241127T113153Z
UID:5678627-1740470400-1740589200@fadi.es
SUMMARY:Campeoanto de Andalucia Curling
DESCRIPTION:
URL:https://fadi.es/eventos/campeoanto-de-andalucia-curling/
END:VEVENT
END:VCALENDAR