BEGIN:VCALENDAR
VERSION:2.0
PRODID:-//FADI - ECPv6.2.3.1//NONSGML v1.0//EN
CALSCALE:GREGORIAN
METHOD:PUBLISH
X-WR-CALNAME:FADI
X-ORIGINAL-URL:https://fadi.es
X-WR-CALDESC:Eventos para FADI
REFRESH-INTERVAL;VALUE=DURATION:PT1H
X-Robots-Tag:noindex
X-PUBLISHED-TTL:PT1H
BEGIN:VTIMEZONE
TZID:UTC
BEGIN:STANDARD
TZOFFSETFROM:+0000
TZOFFSETTO:+0000
TZNAME:UTC
DTSTART:20250101T000000
END:STANDARD
END:VTIMEZONE
BEGIN:VEVENT
DTSTART;TZID=UTC:20250404T080000
DTEND;TZID=UTC:20250405T170000
DTSTAMP:20260423T191058
CREATED:20241127T114858Z
LAST-MODIFIED:20241127T114900Z
UID:5678653-1743753600-1743872400@fadi.es
SUMMARY:3ª Fase copa Andalucía Alevín: V Carolina Ruiz Challange AQC
DESCRIPTION:
URL:https://fadi.es/eventos/3a-fase-copa-andalucia-alevin-v-carolina-ruiz-challange-aqc/
END:VEVENT
BEGIN:VEVENT
DTSTART;TZID=UTC:20250404T080000
DTEND;TZID=UTC:20250406T170000
DTSTAMP:20260423T191058
CREATED:20241127T114603Z
LAST-MODIFIED:20241211T131530Z
UID:5678650-1743753600-1743958800@fadi.es
SUMMARY:3ª Fase copa Andalucía absoluta y master (DPD): XLIX Trofeo Nacional de Veteranos - Juan Luis Hernández
DESCRIPTION:
URL:https://fadi.es/eventos/3a-fase-copa-andalucia-absoluta-y-master-dpd-xlix-trofeo-nacional-de-veteranos-juan-luis-hernandez/
END:VEVENT
BEGIN:VEVENT
DTSTART;TZID=UTC:20250405T080000
DTEND;TZID=UTC:20250406T170000
DTSTAMP:20260423T191058
CREATED:20250219T172613Z
LAST-MODIFIED:20250219T172615Z
UID:5678782-1743840000-1743958800@fadi.es
SUMMARY:3ª Fase Copa Andalucía Absoluta y Máster (DPD): Campeonato de Andalucía Absoluto.
DESCRIPTION:
URL:https://fadi.es/eventos/3a-fase-copa-andalucia-absoluta-y-master-dpd-campeonato-de-andalucia-absoluto/
END:VEVENT
BEGIN:VEVENT
DTSTART;TZID=UTC:20250406T080000
DTEND;TZID=UTC:20250406T170000
DTSTAMP:20260423T191058
CREATED:20241127T115037Z
LAST-MODIFIED:20241127T115039Z
UID:5678656-1743926400-1743958800@fadi.es
SUMMARY:3ª Fase copa Andalucía Alevín: XVIII Trofeo Ruralito
DESCRIPTION:
URL:https://fadi.es/eventos/3a-fase-copa-andalucia-alevin-xviii-trofeo-ruralito/
END:VEVENT
BEGIN:VEVENT
DTSTART;TZID=UTC:20250407T080000
DTEND;TZID=UTC:20250410T170000
DTSTAMP:20260423T191058
CREATED:20241127T115651Z
LAST-MODIFIED:20250219T172803Z
UID:5678659-1744012800-1744304400@fadi.es
SUMMARY:Campeonato de España Absoluto Esquí alpino - Trofeo Spainsnow
DESCRIPTION:
URL:https://fadi.es/eventos/trofeo-fadi-absoluto-fis/
END:VEVENT
BEGIN:VEVENT
DTSTART;TZID=UTC:20250412T080000
DTEND;TZID=UTC:20250414T170000
DTSTAMP:20260423T191058
CREATED:20241127T115937Z
LAST-MODIFIED:20250219T172936Z
UID:5678663-1744444800-1744650000@fadi.es
SUMMARY:3ª Fase copa Andalucía infantil: Campeonato de Andalucía Infantil
DESCRIPTION:
URL:https://fadi.es/eventos/3a-fase-copa-andalucia-infantil-campeonato-de-andalucia-infantil/
END:VEVENT
BEGIN:VEVENT
DTSTART;TZID=UTC:20250416T080000
DTEND;TZID=UTC:20250417T170000
DTSTAMP:20260423T191058
CREATED:20241127T120152Z
LAST-MODIFIED:20250419T100921Z
UID:5678668-1744790400-1744909200@fadi.es
SUMMARY:3ª Fase copa Andalucía Freeski - Snowboard: Campeonato de Andalucía. Snowtracks
DESCRIPTION:
URL:https://fadi.es/eventos/3a-fase-copa-andalucia-freeski-snowboard-campeonato-de-andalucia/
END:VEVENT
BEGIN:VEVENT
DTSTART;TZID=UTC:20250420T080000
DTEND;TZID=UTC:20250420T170000
DTSTAMP:20260423T191058
CREATED:20241127T120421Z
LAST-MODIFIED:20250219T173228Z
UID:5678671-1745136000-1745168400@fadi.es
SUMMARY:3ª Fase copa Andalucía freestyle: III Trofeo Caja Rural
DESCRIPTION:
URL:https://fadi.es/eventos/3a-fase-copa-andalucia-freestyle-iii-trofeo-caja-rural/
END:VEVENT
BEGIN:VEVENT
DTSTART;TZID=UTC:20250421T080000
DTEND;TZID=UTC:20250421T170000
DTSTAMP:20260423T191058
CREATED:20250219T173407Z
LAST-MODIFIED:20250219T173410Z
UID:5678787-1745222400-1745254800@fadi.es
SUMMARY:3ª Fase Copa Andalucía Freestyle: Campeonato de Andalucía.
DESCRIPTION:
URL:https://fadi.es/eventos/3a-fase-copa-andalucia-freestyle-campeonato-de-andalucia/
END:VEVENT
BEGIN:VEVENT
DTSTART;TZID=UTC:20250426T080000
DTEND;TZID=UTC:20250426T170000
DTSTAMP:20260423T191058
CREATED:20241127T120538Z
LAST-MODIFIED:20241127T120540Z
UID:5678674-1745654400-1745686800@fadi.es
SUMMARY:Evento e Cierre de Temporada
DESCRIPTION:
URL:https://fadi.es/eventos/evento-e-cierre-de-temporada/
END:VEVENT
END:VCALENDAR