BEGIN:VCALENDAR
VERSION:2.0
PRODID:-//FADI - ECPv6.2.3.1//NONSGML v1.0//EN
CALSCALE:GREGORIAN
METHOD:PUBLISH
X-WR-CALNAME:FADI
X-ORIGINAL-URL:https://fadi.es
X-WR-CALDESC:Eventos para FADI
REFRESH-INTERVAL;VALUE=DURATION:PT1H
X-Robots-Tag:noindex
X-PUBLISHED-TTL:PT1H
BEGIN:VTIMEZONE
TZID:UTC
BEGIN:STANDARD
TZOFFSETFROM:+0000
TZOFFSETTO:+0000
TZNAME:UTC
DTSTART:20250101T000000
END:STANDARD
END:VTIMEZONE
BEGIN:VEVENT
DTSTART;TZID=UTC:20250421T080000
DTEND;TZID=UTC:20250421T170000
DTSTAMP:20260423T222249
CREATED:20250219T173407Z
LAST-MODIFIED:20250219T173410Z
UID:5678787-1745222400-1745254800@fadi.es
SUMMARY:3ª Fase Copa Andalucía Freestyle: Campeonato de Andalucía.
DESCRIPTION:
URL:https://fadi.es/eventos/3a-fase-copa-andalucia-freestyle-campeonato-de-andalucia/
END:VEVENT
BEGIN:VEVENT
DTSTART;TZID=UTC:20250426T080000
DTEND;TZID=UTC:20250426T170000
DTSTAMP:20260423T222249
CREATED:20241127T120538Z
LAST-MODIFIED:20241127T120540Z
UID:5678674-1745654400-1745686800@fadi.es
SUMMARY:Evento e Cierre de Temporada
DESCRIPTION:
URL:https://fadi.es/eventos/evento-e-cierre-de-temporada/
END:VEVENT
END:VCALENDAR